BEGIN:VCALENDAR
VERSION:2.0
PRODID:-//Date iCal//NONSGML kigkonsult.se iCalcreator 2.20.2//
METHOD:PUBLISH
X-WR-CALNAME;VALUE=TEXT:Event Calendar
BEGIN:VEVENT
UID:calendar.30262.field_event_date.0@ca.audubon.org
DTSTAMP:20211017T130637Z
CREATED:20210714T233844Z
DESCRIPTION:WHAT: Community Bird Walk with local bi\n  Saturday\, January 1
 5\, 2022 - \n08:00 to 10:00
DTSTART:20220115T080000Z
DTEND:20220115T100000Z
LAST-MODIFIED:20210915T063714Z
LOCATION:4700 N Griffin Ave\, Los Angeles\, California\, 90031\, United Sta
 tes
SUMMARY:Community Bird Walk
URL;TYPE=URI:https://ca.audubon.org/events/community-bird-walk-6
END:VEVENT
END:VCALENDAR
